BEGIN:VCALENDAR
VERSION:2.0
PRODID:-//Robb Janov Music - ECPv6.15.20//NONSGML v1.0//EN
CALSCALE:GREGORIAN
METHOD:PUBLISH
X-WR-CALNAME:Robb Janov Music
X-ORIGINAL-URL:https://robbjanov.com
X-WR-CALDESC:Events for Robb Janov Music
REFRESH-INTERVAL;VALUE=DURATION:PT1H
X-Robots-Tag:noindex
X-PUBLISHED-TTL:PT1H
BEGIN:VTIMEZONE
TZID:America/Denver
BEGIN:DAYLIGHT
TZOFFSETFROM:-0700
TZOFFSETTO:-0600
TZNAME:MDT
DTSTART:20250309T090000
END:DAYLIGHT
BEGIN:STANDARD
TZOFFSETFROM:-0600
TZOFFSETTO:-0700
TZNAME:MST
DTSTART:20251102T080000
END:STANDARD
BEGIN:DAYLIGHT
TZOFFSETFROM:-0700
TZOFFSETTO:-0600
TZNAME:MDT
DTSTART:20260308T090000
END:DAYLIGHT
BEGIN:STANDARD
TZOFFSETFROM:-0600
TZOFFSETTO:-0700
TZNAME:MST
DTSTART:20261101T080000
END:STANDARD
BEGIN:DAYLIGHT
TZOFFSETFROM:-0700
TZOFFSETTO:-0600
TZNAME:MDT
DTSTART:20270314T090000
END:DAYLIGHT
BEGIN:STANDARD
TZOFFSETFROM:-0600
TZOFFSETTO:-0700
TZNAME:MST
DTSTART:20271107T080000
END:STANDARD
END:VTIMEZONE
BEGIN:VEVENT
DTSTART;TZID=America/Denver:20260425T100000
DTEND;TZID=America/Denver:20260425T120000
DTSTAMP:20260423T044912
CREATED:20260317T185648Z
LAST-MODIFIED:20260317T185803Z
UID:1213-1777111200-1777118400@robbjanov.com
SUMMARY:Robb’s Violin Jam (w/special guest) at the ABQ Downtown Growers Market
DESCRIPTION:
URL:https://robbjanov.com/event/robbs-violin-jam-w-special-guest-at-the-abq-downtown-growers-market/
LOCATION:ABQ Downtown Growers Market\, 810 Copper Ave. NW\, Albuquerque\, NM\, 87102\, United States
CATEGORIES:Robb's Gigs
END:VEVENT
BEGIN:VEVENT
DTSTART;TZID=America/Denver:20260425T100000
DTEND;TZID=America/Denver:20260425T120000
DTSTAMP:20260423T044912
CREATED:20260414T224858Z
LAST-MODIFIED:20260414T224858Z
UID:1215-1777111200-1777118400@robbjanov.com
SUMMARY:Robb & Dimi @ABQ Downtown Growers Market
DESCRIPTION:
URL:https://robbjanov.com/event/robb-dimi-abq-downtown-growers-market/
LOCATION:ABQ Downtown Growers Market\, 810 Copper Ave. NW\, Albuquerque\, NM\, 87102\, United States
CATEGORIES:Robb's Gigs
ORGANIZER;CN="Downtown Growers Market":MAILTO:market@abqmainstreet.org
END:VEVENT
END:VCALENDAR